BEGIN:VCALENDAR
VERSION:2.0
PRODID:-//jEvents 2.0 for Joomla//EN
CALSCALE:GREGORIAN
METHOD:PUBLISH
BEGIN:VTIMEZONE
TZID:America/Denver
BEGIN:STANDARD
DTSTART:20171105T010000
RDATE:20180311T030000
TZOFFSETFROM:-0600
TZOFFSETTO:-0700
TZNAME:America/Denver MST
END:STANDARD
BEGIN:STANDARD
DTSTART:20181104T010000
RDATE:20190310T030000
TZOFFSETFROM:-0600
TZOFFSETTO:-0700
TZNAME:America/Denver MST
END:STANDARD
BEGIN:STANDARD
DTSTART:20191103T010000
RDATE:20200308T030000
TZOFFSETFROM:-0600
TZOFFSETTO:-0700
TZNAME:America/Denver MST
END:STANDARD
BEGIN:STANDARD
DTSTART:20201101T010000
RDATE:20210314T030000
TZOFFSETFROM:-0600
TZOFFSETTO:-0700
TZNAME:America/Denver MST
END:STANDARD
BEGIN:STANDARD
DTSTART:20211107T010000
RDATE:20220313T030000
TZOFFSETFROM:-0600
TZOFFSETTO:-0700
TZNAME:America/Denver MST
END:STANDARD
BEGIN:STANDARD
DTSTART:20221106T010000
RDATE:20230312T030000
TZOFFSETFROM:-0600
TZOFFSETTO:-0700
TZNAME:America/Denver MST
END:STANDARD
BEGIN:STANDARD
DTSTART:20231105T010000
RDATE:20240310T030000
TZOFFSETFROM:-0600
TZOFFSETTO:-0700
TZNAME:America/Denver MST
END:STANDARD
BEGIN:STANDARD
DTSTART:20241103T010000
RDATE:20250309T030000
TZOFFSETFROM:-0600
TZOFFSETTO:-0700
TZNAME:America/Denver MST
END:STANDARD
BEGIN:STANDARD
DTSTART:20251102T010000
RDATE:20260308T030000
TZOFFSETFROM:-0600
TZOFFSETTO:-0700
TZNAME:America/Denver MST
END:STANDARD
BEGIN:STANDARD
DTSTART:20261101T010000
RDATE:20270314T030000
TZOFFSETFROM:-0600
TZOFFSETTO:-0700
TZNAME:America/Denver MST
END:STANDARD
BEGIN:STANDARD
DTSTART:20271107T010000
RDATE:20280312T030000
TZOFFSETFROM:-0600
TZOFFSETTO:-0700
TZNAME:America/Denver MST
END:STANDARD
BEGIN:STANDARD
DTSTART:20281105T010000
RDATE:20290311T030000
TZOFFSETFROM:-0600
TZOFFSETTO:-0700
TZNAME:America/Denver MST
END:STANDARD
BEGIN:STANDARD
DTSTART:20291104T010000
RDATE:20300310T030000
TZOFFSETFROM:-0600
TZOFFSETTO:-0700
TZNAME:America/Denver MST
END:STANDARD
BEGIN:STANDARD
DTSTART:20301103T010000
RDATE:20310309T030000
TZOFFSETFROM:-0600
TZOFFSETTO:-0700
TZNAME:America/Denver MST
END:STANDARD
BEGIN:STANDARD
DTSTART:20311102T010000
RDATE:20320314T030000
TZOFFSETFROM:-0600
TZOFFSETTO:-0700
TZNAME:America/Denver MST
END:STANDARD
BEGIN:STANDARD
DTSTART:20321107T010000
RDATE:20330313T030000
TZOFFSETFROM:-0600
TZOFFSETTO:-0700
TZNAME:America/Denver MST
END:STANDARD
BEGIN:STANDARD
DTSTART:20331106T010000
RDATE:20340312T030000
TZOFFSETFROM:-0600
TZOFFSETTO:-0700
TZNAME:America/Denver MST
END:STANDARD
BEGIN:STANDARD
DTSTART:20341105T010000
RDATE:20350311T030000
TZOFFSETFROM:-0600
TZOFFSETTO:-0700
TZNAME:America/Denver MST
END:STANDARD
BEGIN:STANDARD
DTSTART:20351104T010000
RDATE:20360309T030000
TZOFFSETFROM:-0600
TZOFFSETTO:-0700
TZNAME:America/Denver MST
END:STANDARD
BEGIN:STANDARD
DTSTART:20361102T010000
RDATE:20370308T030000
TZOFFSETFROM:-0600
TZOFFSETTO:-0700
TZNAME:America/Denver MST
END:STANDARD
BEGIN:STANDARD
DTSTART:20371101T010000
TZOFFSETFROM:-0600
TZOFFSETTO:-0700
TZNAME:America/Denver MST
END:STANDARD
BEGIN:DAYLIGHT
DTSTART:20170819T070000
RDATE:20171105T010000
TZOFFSETFROM:-0700
TZOFFSETTO:-0600
TZNAME:America/Denver MDT
END:DAYLIGHT
BEGIN:DAYLIGHT
DTSTART:20180311T030000
RDATE:20181104T010000
TZOFFSETFROM:-0700
TZOFFSETTO:-0600
TZNAME:America/Denver MDT
END:DAYLIGHT
BEGIN:DAYLIGHT
DTSTART:20190310T030000
RDATE:20191103T010000
TZOFFSETFROM:-0700
TZOFFSETTO:-0600
TZNAME:America/Denver MDT
END:DAYLIGHT
BEGIN:DAYLIGHT
DTSTART:20200308T030000
RDATE:20201101T010000
TZOFFSETFROM:-0700
TZOFFSETTO:-0600
TZNAME:America/Denver MDT
END:DAYLIGHT
BEGIN:DAYLIGHT
DTSTART:20210314T030000
RDATE:20211107T010000
TZOFFSETFROM:-0700
TZOFFSETTO:-0600
TZNAME:America/Denver MDT
END:DAYLIGHT
BEGIN:DAYLIGHT
DTSTART:20220313T030000
RDATE:20221106T010000
TZOFFSETFROM:-0700
TZOFFSETTO:-0600
TZNAME:America/Denver MDT
END:DAYLIGHT
BEGIN:DAYLIGHT
DTSTART:20230312T030000
RDATE:20231105T010000
TZOFFSETFROM:-0700
TZOFFSETTO:-0600
TZNAME:America/Denver MDT
END:DAYLIGHT
BEGIN:DAYLIGHT
DTSTART:20240310T030000
RDATE:20241103T010000
TZOFFSETFROM:-0700
TZOFFSETTO:-0600
TZNAME:America/Denver MDT
END:DAYLIGHT
BEGIN:DAYLIGHT
DTSTART:20250309T030000
RDATE:20251102T010000
TZOFFSETFROM:-0700
TZOFFSETTO:-0600
TZNAME:America/Denver MDT
END:DAYLIGHT
BEGIN:DAYLIGHT
DTSTART:20260308T030000
RDATE:20261101T010000
TZOFFSETFROM:-0700
TZOFFSETTO:-0600
TZNAME:America/Denver MDT
END:DAYLIGHT
BEGIN:DAYLIGHT
DTSTART:20270314T030000
RDATE:20271107T010000
TZOFFSETFROM:-0700
TZOFFSETTO:-0600
TZNAME:America/Denver MDT
END:DAYLIGHT
BEGIN:DAYLIGHT
DTSTART:20280312T030000
RDATE:20281105T010000
TZOFFSETFROM:-0700
TZOFFSETTO:-0600
TZNAME:America/Denver MDT
END:DAYLIGHT
BEGIN:DAYLIGHT
DTSTART:20290311T030000
RDATE:20291104T010000
TZOFFSETFROM:-0700
TZOFFSETTO:-0600
TZNAME:America/Denver MDT
END:DAYLIGHT
BEGIN:DAYLIGHT
DTSTART:20300310T030000
RDATE:20301103T010000
TZOFFSETFROM:-0700
TZOFFSETTO:-0600
TZNAME:America/Denver MDT
END:DAYLIGHT
BEGIN:DAYLIGHT
DTSTART:20310309T030000
RDATE:20311102T010000
TZOFFSETFROM:-0700
TZOFFSETTO:-0600
TZNAME:America/Denver MDT
END:DAYLIGHT
BEGIN:DAYLIGHT
DTSTART:20320314T030000
RDATE:20321107T010000
TZOFFSETFROM:-0700
TZOFFSETTO:-0600
TZNAME:America/Denver MDT
END:DAYLIGHT
BEGIN:DAYLIGHT
DTSTART:20330313T030000
RDATE:20331106T010000
TZOFFSETFROM:-0700
TZOFFSETTO:-0600
TZNAME:America/Denver MDT
END:DAYLIGHT
BEGIN:DAYLIGHT
DTSTART:20340312T030000
RDATE:20341105T010000
TZOFFSETFROM:-0700
TZOFFSETTO:-0600
TZNAME:America/Denver MDT
END:DAYLIGHT
BEGIN:DAYLIGHT
DTSTART:20350311T030000
RDATE:20351104T010000
TZOFFSETFROM:-0700
TZOFFSETTO:-0600
TZNAME:America/Denver MDT
END:DAYLIGHT
BEGIN:DAYLIGHT
DTSTART:20360309T030000
RDATE:20361102T010000
TZOFFSETFROM:-0700
TZOFFSETTO:-0600
TZNAME:America/Denver MDT
END:DAYLIGHT
BEGIN:DAYLIGHT
DTSTART:20370308T030000
RDATE:20371101T010000
TZOFFSETFROM:-0700
TZOFFSETTO:-0600
TZNAME:America/Denver MDT
END:DAYLIGHT
END:VTIMEZONE
BEGIN:VEVENT
UID:c05b532d7c70c6dadc209de503f2cb34
CATEGORIES:LSDM
CREATED:20180818T131155
SUMMARY:Jerry Rao
DESCRIPTION:<p>	&nbsp;</p><div>	<span style="font-family: arial, helvetica, sans-serif;
  font-size: 10pt;">&nbsp;</span></div><div>	<span style="font-family: arial
 , helvetica, sans-serif; font-size: 10pt;"><strong style="color: rgb(34, 34
 , 34); font-family: sans-serif; font-size: 14px;">Jaithirth Rao</strong><sp
 an style="color: rgb(34, 34, 34); font-family: sans-serif; font-size: 14px;
 ">, popularly known as&nbsp;</span><strong style="color: rgb(34, 34, 34); f
 ont-family: sans-serif; font-size: 14px;">Jerry Rao</strong><span style="co
 lor: rgb(34, 34, 34); font-family: sans-serif; font-size: 14px;">, is an In
 dian businessman and entrepreneur. He is the founder and former CEO of the 
 software company&nbsp;</span><a class="mw-redirect" href="https://en.wikipe
 dia.org/wiki/MphasiS" style="color: rgb(11, 0, 128); background-image: none
 ; background-position: initial; background-size: initial; background-repeat
 : initial; background-attachment: initial; background-origin: initial; back
 ground-clip: initial; font-family: sans-serif; font-size: 14px;" title="Mph
 asiS">MphasiS</a><span style="color: rgb(34, 34, 34); font-family: sans-ser
 if; font-size: 14px;">. He is currently the Executive Chairman of Value and
  Budget Housing Corporation (VBHC) (now known as VBHC Value Homes Pvt. Ltd.
 ), an affordable housing venture which he founded in 2010.</span><sup class
 ="reference" id="cite_ref-1" style="line-height: 1; unicode-bidi: isolate; 
 white-space: nowrap; font-size: 11.2px; color: rgb(34, 34, 34); font-family
 : sans-serif;"><a href="https://en.wikipedia.org/wiki/Jerry_Rao#cite_note-1
 " style="color: rgb(11, 0, 128); background: none;">[1]</a></sup><sup class
 ="reference" id="cite_ref-2" style="line-height: 1; unicode-bidi: isolate; 
 white-space: nowrap; font-size: 11.2px; color: rgb(34, 34, 34); font-family
 : sans-serif;"><a href="https://en.wikipedia.org/wiki/Jerry_Rao#cite_note-2
 " style="color: rgb(11, 0, 128); background: none;">[2]</a></sup><span styl
 e="color: rgb(34, 34, 34); font-family: sans-serif; font-size: 14px;">&nbsp
 ;He is also a founder and director of Homefirst Finance Corporation, a Hous
 ing Finance company focused on providing housing finance to first time home
  buyers.</span><sup class="reference" id="cite_ref-3" style="line-height: 1
 ; unicode-bidi: isolate; white-space: nowrap; font-size: 11.2px; color: rgb
 (34, 34, 34); font-family: sans-serif;"><a href="https://en.wikipedia.org/w
 iki/Jerry_Rao#cite_note-3" style="color: rgb(11, 0, 128); background: none;
 ">[3]</a></sup> </span></div><div>	&nbsp;</div><div>	<span style="font-fami
 ly: arial, helvetica, sans-serif; font-size: 10pt;"><span style="color: rgb
 (34, 34, 34); font-family: sans-serif; font-size: 14px;">Rao is a regular w
 riter and speaker. Rao has published a volume of poetry (Gemini II publishe
 d by Penguin India)</span><sup class="reference" id="cite_ref-9" style="lin
 e-height: 1; unicode-bidi: isolate; white-space: nowrap; font-size: 11.2px;
  color: rgb(34, 34, 34); font-family: sans-serif;"><a href="https://en.wiki
 pedia.org/wiki/Jerry_Rao#cite_note-9" style="color: rgb(11, 0, 128); backgr
 ound: none;">[9]</a></sup><span style="color: rgb(34, 34, 34); font-family:
  sans-serif; font-size: 14px;">&nbsp;and a book of essays (Notes from an In
 dian Conservative published by Rupa).</span><sup class="reference" id="cite
 _ref-10" style="line-height: 1; unicode-bidi: isolate; white-space: nowrap;
  font-size: 11.2px; color: rgb(34, 34, 34); font-family: sans-serif;"><a hr
 ef="https://en.wikipedia.org/wiki/Jerry_Rao#cite_note-10" style="color: rgb
 (11, 0, 128); background: none;">[10]</a></sup><span style="color: rgb(34, 
 34, 34); font-family: sans-serif; font-size: 14px;">&nbsp;He writes a regul
 ar opinion column for the Indian Express and occasional columns for Seminar
 , Economic Times,</span><sup class="reference" id="cite_ref-11" style="line
 -height: 1; unicode-bidi: isolate; white-space: nowrap; font-size: 11.2px; 
 color: rgb(34, 34, 34); font-family: sans-serif;"><a href="https://en.wikip
 edia.org/wiki/Jerry_Rao#cite_note-11" style="color: rgb(11, 0, 128); backgr
 ound: none;">[11]</a></sup><span style="color: rgb(34, 34, 34); font-family
 : sans-serif; font-size: 14px;">&nbsp;India International Centre Quarterly 
 and Mint.</span></span></div>
DTSTAMP:20260421T082944
DTSTART;TZID=America/Denver:20180820T070000
DTEND;TZID=America/Denver:20180820T080000
SEQUENCE:0
TRANSP:OPAQUE
END:VEVENT
END:VCALENDAR