BEGIN:VCALENDAR
VERSION:2.0
PRODID:-//jEvents 2.0 for Joomla//EN
CALSCALE:GREGORIAN
METHOD:PUBLISH
BEGIN:VTIMEZONE
TZID:America/Denver
BEGIN:STANDARD
DTSTART:20181104T010000
RDATE:20190310T030000
TZOFFSETFROM:-0600
TZOFFSETTO:-0700
TZNAME:America/Denver MST
END:STANDARD
BEGIN:STANDARD
DTSTART:20191103T010000
RDATE:20200308T030000
TZOFFSETFROM:-0600
TZOFFSETTO:-0700
TZNAME:America/Denver MST
END:STANDARD
BEGIN:STANDARD
DTSTART:20201101T010000
RDATE:20210314T030000
TZOFFSETFROM:-0600
TZOFFSETTO:-0700
TZNAME:America/Denver MST
END:STANDARD
BEGIN:STANDARD
DTSTART:20211107T010000
RDATE:20220313T030000
TZOFFSETFROM:-0600
TZOFFSETTO:-0700
TZNAME:America/Denver MST
END:STANDARD
BEGIN:STANDARD
DTSTART:20221106T010000
RDATE:20230312T030000
TZOFFSETFROM:-0600
TZOFFSETTO:-0700
TZNAME:America/Denver MST
END:STANDARD
BEGIN:STANDARD
DTSTART:20231105T010000
RDATE:20240310T030000
TZOFFSETFROM:-0600
TZOFFSETTO:-0700
TZNAME:America/Denver MST
END:STANDARD
BEGIN:STANDARD
DTSTART:20241103T010000
RDATE:20250309T030000
TZOFFSETFROM:-0600
TZOFFSETTO:-0700
TZNAME:America/Denver MST
END:STANDARD
BEGIN:STANDARD
DTSTART:20251102T010000
RDATE:20260308T030000
TZOFFSETFROM:-0600
TZOFFSETTO:-0700
TZNAME:America/Denver MST
END:STANDARD
BEGIN:STANDARD
DTSTART:20261101T010000
RDATE:20270314T030000
TZOFFSETFROM:-0600
TZOFFSETTO:-0700
TZNAME:America/Denver MST
END:STANDARD
BEGIN:STANDARD
DTSTART:20271107T010000
RDATE:20280312T030000
TZOFFSETFROM:-0600
TZOFFSETTO:-0700
TZNAME:America/Denver MST
END:STANDARD
BEGIN:STANDARD
DTSTART:20281105T010000
RDATE:20290311T030000
TZOFFSETFROM:-0600
TZOFFSETTO:-0700
TZNAME:America/Denver MST
END:STANDARD
BEGIN:STANDARD
DTSTART:20291104T010000
RDATE:20300310T030000
TZOFFSETFROM:-0600
TZOFFSETTO:-0700
TZNAME:America/Denver MST
END:STANDARD
BEGIN:STANDARD
DTSTART:20301103T010000
RDATE:20310309T030000
TZOFFSETFROM:-0600
TZOFFSETTO:-0700
TZNAME:America/Denver MST
END:STANDARD
BEGIN:STANDARD
DTSTART:20311102T010000
RDATE:20320314T030000
TZOFFSETFROM:-0600
TZOFFSETTO:-0700
TZNAME:America/Denver MST
END:STANDARD
BEGIN:STANDARD
DTSTART:20321107T010000
RDATE:20330313T030000
TZOFFSETFROM:-0600
TZOFFSETTO:-0700
TZNAME:America/Denver MST
END:STANDARD
BEGIN:STANDARD
DTSTART:20331106T010000
RDATE:20340312T030000
TZOFFSETFROM:-0600
TZOFFSETTO:-0700
TZNAME:America/Denver MST
END:STANDARD
BEGIN:STANDARD
DTSTART:20341105T010000
RDATE:20350311T030000
TZOFFSETFROM:-0600
TZOFFSETTO:-0700
TZNAME:America/Denver MST
END:STANDARD
BEGIN:STANDARD
DTSTART:20351104T010000
RDATE:20360309T030000
TZOFFSETFROM:-0600
TZOFFSETTO:-0700
TZNAME:America/Denver MST
END:STANDARD
BEGIN:STANDARD
DTSTART:20361102T010000
RDATE:20370308T030000
TZOFFSETFROM:-0600
TZOFFSETTO:-0700
TZNAME:America/Denver MST
END:STANDARD
BEGIN:STANDARD
DTSTART:20371101T010000
TZOFFSETFROM:-0600
TZOFFSETTO:-0700
TZNAME:America/Denver MST
END:STANDARD
BEGIN:DAYLIGHT
DTSTART:20180624T070000
RDATE:20181104T010000
TZOFFSETFROM:-0700
TZOFFSETTO:-0600
TZNAME:America/Denver MDT
END:DAYLIGHT
BEGIN:DAYLIGHT
DTSTART:20190310T030000
RDATE:20191103T010000
TZOFFSETFROM:-0700
TZOFFSETTO:-0600
TZNAME:America/Denver MDT
END:DAYLIGHT
BEGIN:DAYLIGHT
DTSTART:20200308T030000
RDATE:20201101T010000
TZOFFSETFROM:-0700
TZOFFSETTO:-0600
TZNAME:America/Denver MDT
END:DAYLIGHT
BEGIN:DAYLIGHT
DTSTART:20210314T030000
RDATE:20211107T010000
TZOFFSETFROM:-0700
TZOFFSETTO:-0600
TZNAME:America/Denver MDT
END:DAYLIGHT
BEGIN:DAYLIGHT
DTSTART:20220313T030000
RDATE:20221106T010000
TZOFFSETFROM:-0700
TZOFFSETTO:-0600
TZNAME:America/Denver MDT
END:DAYLIGHT
BEGIN:DAYLIGHT
DTSTART:20230312T030000
RDATE:20231105T010000
TZOFFSETFROM:-0700
TZOFFSETTO:-0600
TZNAME:America/Denver MDT
END:DAYLIGHT
BEGIN:DAYLIGHT
DTSTART:20240310T030000
RDATE:20241103T010000
TZOFFSETFROM:-0700
TZOFFSETTO:-0600
TZNAME:America/Denver MDT
END:DAYLIGHT
BEGIN:DAYLIGHT
DTSTART:20250309T030000
RDATE:20251102T010000
TZOFFSETFROM:-0700
TZOFFSETTO:-0600
TZNAME:America/Denver MDT
END:DAYLIGHT
BEGIN:DAYLIGHT
DTSTART:20260308T030000
RDATE:20261101T010000
TZOFFSETFROM:-0700
TZOFFSETTO:-0600
TZNAME:America/Denver MDT
END:DAYLIGHT
BEGIN:DAYLIGHT
DTSTART:20270314T030000
RDATE:20271107T010000
TZOFFSETFROM:-0700
TZOFFSETTO:-0600
TZNAME:America/Denver MDT
END:DAYLIGHT
BEGIN:DAYLIGHT
DTSTART:20280312T030000
RDATE:20281105T010000
TZOFFSETFROM:-0700
TZOFFSETTO:-0600
TZNAME:America/Denver MDT
END:DAYLIGHT
BEGIN:DAYLIGHT
DTSTART:20290311T030000
RDATE:20291104T010000
TZOFFSETFROM:-0700
TZOFFSETTO:-0600
TZNAME:America/Denver MDT
END:DAYLIGHT
BEGIN:DAYLIGHT
DTSTART:20300310T030000
RDATE:20301103T010000
TZOFFSETFROM:-0700
TZOFFSETTO:-0600
TZNAME:America/Denver MDT
END:DAYLIGHT
BEGIN:DAYLIGHT
DTSTART:20310309T030000
RDATE:20311102T010000
TZOFFSETFROM:-0700
TZOFFSETTO:-0600
TZNAME:America/Denver MDT
END:DAYLIGHT
BEGIN:DAYLIGHT
DTSTART:20320314T030000
RDATE:20321107T010000
TZOFFSETFROM:-0700
TZOFFSETTO:-0600
TZNAME:America/Denver MDT
END:DAYLIGHT
BEGIN:DAYLIGHT
DTSTART:20330313T030000
RDATE:20331106T010000
TZOFFSETFROM:-0700
TZOFFSETTO:-0600
TZNAME:America/Denver MDT
END:DAYLIGHT
BEGIN:DAYLIGHT
DTSTART:20340312T030000
RDATE:20341105T010000
TZOFFSETFROM:-0700
TZOFFSETTO:-0600
TZNAME:America/Denver MDT
END:DAYLIGHT
BEGIN:DAYLIGHT
DTSTART:20350311T030000
RDATE:20351104T010000
TZOFFSETFROM:-0700
TZOFFSETTO:-0600
TZNAME:America/Denver MDT
END:DAYLIGHT
BEGIN:DAYLIGHT
DTSTART:20360309T030000
RDATE:20361102T010000
TZOFFSETFROM:-0700
TZOFFSETTO:-0600
TZNAME:America/Denver MDT
END:DAYLIGHT
BEGIN:DAYLIGHT
DTSTART:20370308T030000
RDATE:20371101T010000
TZOFFSETFROM:-0700
TZOFFSETTO:-0600
TZNAME:America/Denver MDT
END:DAYLIGHT
END:VTIMEZONE
BEGIN:VEVENT
UID:43e30b39c30e910fd26b36eb603ba74c
CATEGORIES:LSDM
CREATED:20190609T105140
SUMMARY:Dr. Gregory W. Frazier
DESCRIPTION:	Professional Motorcycle Adventurer\n	 \n	Dr. Gregory W. Frazier, PhD\n	 \n
 	Professional Motorcycle Adventurer/Author/Journalist/Scholar\n	 \n	SIX Tim
 es Around                                      P.O. Box 427                
                 Kawasaki, BMW,\n	The World By                              
                Englewood, CO 80151                     Indian, Enfield,\n	M
 otorcycle                                               Tel: (303) 715-9292
                         Harley-Davidson,\n	                                
                                                                            
     Honda, and AMAZONAS\n	 \n	E-Mail: gregfrazier@yahoo.com                
          www.horizonsunlimited.com/gregfrazier (http://www.horizonsunlimite
 d.com/gregfrazier)\n	 \n	Gregory W. Frazier (‘Dr. G’) is a professional mot
 orcycle adventurer, writer and film producer.  Known as “America’s #1 extre
 me motorcycle adventurer,” his expeditions take him to the ends of the eart
 h. He is the only motorcyclist known to have made four solo motorcycle ride
 s around the world and two partnered.  His name can be found in motorcycle 
 racing record books aboard BMW and Indian motorcycles.  A Crow Indian (“Sun
  Chaser”), his home is in the Big Horn Mountains of Montana. Among his sixt
 een published books are BMW GSing AROUND THE WORLD; MOTORCYCLE ADVENTURER; 
 DOWN AND OUT IN PATAGONIA, KATMCHATKA, AND TIMBUKU; MOTORCYCLE TOURING – EV
 ERYTHING YOU NEED TO KNOW and his best selling tome  MOTORCYCLE SEX. He is 
 the Adventure Strategy Contributor at MOTORCYCLE CONSUMER NEWS and for CITY
  BIKE magazine he is the Chief of the World Adventure Affairs Desk.  His jo
 urnalistic works appear throughout the global motorcycle press and travel m
 agazines. He travels widely by motorcycles throughout the year and contribu
 tes his wanderlust to Native American heritage. He says of his wild motorcy
 cle adventures, “I hate adventure that has anything to do with snakes or sh
 arks.”\n	 \n	No stranger to danger, his adventures around the earth include
  having been shot at by rebels, jailed by unfriendly authorities, bitten by
  snakes, run over by Pamplona bulls and smitten by a product of Adam's rib.
  In 2005 Frazier completed his fifth motorcycle ride around the earth, help
 ing a Parkinson's patient as his pillion "Ride the Dream."\n	Frazier's two 
 wheel travels have taken him over 1,000,000 miles. Frazier works as an auth
 or, motorcycle journalist, script consultant, professional photographer, an
 d lecturer, his treatments appearing widely throughout the international mo
 torcycling press. In the USA media he has been a regular Columnist/Adventur
 e Editor-at-Large for motorcycle magazines such as MOTORCYCLE-USA.COM, ACCE
 LERATE (RIDERS OF KAWASAKI), and DUAL-SPORT NEWS. He has contributed to RID
 ER, MOTORCYCLE CONSUMER NEWS, MOTORCYCLIST, BACKROADS, RoadRUNNER Motorcycl
 e Tour and Travel, AMERICAN MOTORCYCLIST, ADVENTURE MOTORCYCLE in the Unite
 d States. Internationally his work has appeared in BMW BIKES (Japan), TOURE
 NFAHRER (Germany), MOTORRAD (Germany) and MOTORCYCLE TRADER AND NEWS (New Z
 ealand). He has personally been featured in other foreign publications such
  as MOTOR CYCLE NEWS (Great Britain), MotorradABENTEUER (Germany), and MOTO
  (Russia). Dr. G also enjoys a solid reputation for motorcycle and product 
 evaluations.\n	\n	A documentary film produced by Horizons Unlimited titled 
 ROAD HEROES featured Frazier in their film subtitled Motorcycle Adventure T
 ravel Tales.\n	\n	As a co-founder of the BIG DOG ADVENTURE RIDE (www.horizo
 nsunlimited.com/bigdog) and the ELEPHANT RIDE he has enjoyed both events as
  organizer and entrant.\n	\n	Frazier is a well-known motivational speaker, 
 presenting his multi-media shows "Sun Chasing or Five Times Around-The-Worl
 d-By-Motorcycle: Ride The World," and "Long Distance Riding Adventures - 10
 0 Years Of Secrets Revealed." He lectures as a Professor of Motorcycle Adve
 nture and has been identified as “The world’s most cerebral motorcycle adve
 nturer.”\n	\n	In 2017 Frazier completed a second attempt to circumnavigate 
 the globe for a sixth ride around the world, tagging and transiting across 
 five of the seven continents over a several year period: www.greatamericanm
 otorcycleadventurerally.com (http://www.greatamericanmotorcycleadventureral
 ly.com/)\n	A detailed biography for Dr. Frazier can be found at: http://www
 .amazon.com/author/gregoryfrazier (http://www.amazon.com/Dr.-Gregory-W.-Fra
 zier/e/B003B6TD1C/ref=ntt_dp_epwbk_0)\n	 \n	 \n
X-ALT-DESC;FMTTYPE=text/html:<p>	Professional Motorcycle Adventurer</p><p>	&nbsp;</p><p align="center" s
 tyle="margin-left:144px;">	<strong>Dr. Gregory W. Frazier, PhD</strong></p>
 <p align="center" style="margin-left:144px;">	&nbsp;</p><p align="center" s
 tyle="margin-left:144px;">	<strong>Professional Motorcycle Adventurer/Autho
 r/Journalist/Scholar</strong></p><p align="center" style="margin-left:144px
 ;">	&nbsp;</p><p style="margin-left:144px;">	<strong><em>SIX Times Around&n
 bsp;&nbsp;&nbsp;&nbsp;&nbsp;&nbsp;&nbsp;&nbsp;&nbsp;&nbsp;&nbsp;&nbsp;&nbsp
 ;&nbsp;&nbsp; &nbsp;&nbsp;&nbsp;&nbsp;&nbsp;&nbsp;&nbsp;&nbsp;&nbsp;&nbsp;&
 nbsp;&nbsp;&nbsp;&nbsp;&nbsp;&nbsp;&nbsp;&nbsp;&nbsp;&nbsp;&nbsp; </em></st
 rong><strong>P.O. Box 427&nbsp;&nbsp;&nbsp;&nbsp;&nbsp;&nbsp;&nbsp;&nbsp;&n
 bsp;&nbsp;&nbsp;&nbsp;&nbsp;&nbsp;&nbsp;&nbsp;&nbsp;&nbsp;&nbsp;&nbsp;&nbsp
 ;&nbsp;&nbsp;&nbsp;&nbsp;&nbsp;&nbsp;&nbsp;&nbsp;&nbsp;&nbsp; <em>Kawasaki,
  BMW,</em></strong></p><p style="margin-left:144px;">	<strong><em>The World
  By&nbsp;&nbsp;&nbsp;&nbsp;&nbsp;&nbsp;&nbsp;&nbsp;&nbsp;&nbsp;&nbsp;&nbsp;
 &nbsp;&nbsp;&nbsp;&nbsp;&nbsp;&nbsp;&nbsp;&nbsp;&nbsp;&nbsp;&nbsp;&nbsp;&nb
 sp;&nbsp;&nbsp;&nbsp;&nbsp;&nbsp;&nbsp;&nbsp;&nbsp;&nbsp;&nbsp;&nbsp;&nbsp;
 &nbsp;&nbsp;&nbsp;&nbsp;&nbsp;&nbsp;&nbsp; </em></strong><strong>Englewood,
  CO 80151&nbsp;&nbsp;&nbsp;&nbsp;&nbsp;&nbsp;&nbsp;&nbsp;&nbsp;&nbsp;&nbsp;
 &nbsp;&nbsp;&nbsp;&nbsp;&nbsp;&nbsp;&nbsp;&nbsp;&nbsp; <em>Indian, Enfield,
 </em></strong></p><p style="margin-left:144px;">	<strong><em>Motorcycle&nbs
 p;&nbsp;&nbsp;&nbsp;&nbsp;&nbsp;&nbsp;&nbsp;&nbsp;&nbsp;&nbsp;&nbsp;&nbsp;&
 nbsp;&nbsp;&nbsp;&nbsp;&nbsp;&nbsp;&nbsp;&nbsp;&nbsp;&nbsp;&nbsp;&nbsp;&nbs
 p;&nbsp;&nbsp;&nbsp;&nbsp;&nbsp;&nbsp;&nbsp;&nbsp;&nbsp;&nbsp;&nbsp;&nbsp;&
 nbsp;&nbsp;&nbsp;&nbsp;&nbsp;&nbsp;&nbsp;&nbsp; </em></strong><strong>Tel: 
 (303) 715-9292&nbsp;&nbsp;&nbsp;&nbsp;&nbsp;&nbsp;&nbsp;&nbsp;&nbsp;&nbsp;&
 nbsp;&nbsp;&nbsp;&nbsp;&nbsp;&nbsp;&nbsp;&nbsp;&nbsp;&nbsp;&nbsp;&nbsp;&nbs
 p; <em>Harley-Davidson,</em></strong></p><p style="margin-left:144px;">	<st
 rong><em>&nbsp;&nbsp;&nbsp;&nbsp;&nbsp;&nbsp;&nbsp;&nbsp;&nbsp;&nbsp;&nbsp;
 &nbsp;&nbsp;&nbsp;&nbsp;&nbsp;&nbsp;&nbsp;&nbsp;&nbsp;&nbsp;&nbsp;&nbsp;&nb
 sp;&nbsp;&nbsp;&nbsp;&nbsp;&nbsp;&nbsp;&nbsp;&nbsp;&nbsp;&nbsp;&nbsp;&nbsp;
  &nbsp;&nbsp;&nbsp;&nbsp;&nbsp;&nbsp;&nbsp;&nbsp;&nbsp;&nbsp;&nbsp;&nbsp;&n
 bsp;&nbsp;&nbsp;&nbsp;&nbsp;&nbsp;&nbsp;&nbsp;&nbsp;&nbsp;&nbsp;&nbsp;&nbsp
 ;&nbsp;&nbsp;&nbsp;&nbsp;&nbsp;&nbsp;&nbsp;&nbsp;&nbsp;&nbsp;&nbsp;&nbsp;&n
 bsp;&nbsp;&nbsp;&nbsp;&nbsp;&nbsp;&nbsp;&nbsp;&nbsp;&nbsp;&nbsp;&nbsp;&nbsp
 ;&nbsp;&nbsp;&nbsp;&nbsp;&nbsp;&nbsp;&nbsp;&nbsp;&nbsp;&nbsp;&nbsp;&nbsp;&n
 bsp;&nbsp;&nbsp;&nbsp;&nbsp;&nbsp;&nbsp;&nbsp;&nbsp;&nbsp;&nbsp;&nbsp;Honda
 , and AMAZONAS</em></strong></p><p style="margin-left:144px;">	&nbsp;</p><p
  style="margin-left:144px;">	<strong>E-Mail: gregfrazier@yahoo.com&nbsp;&nb
 sp;&nbsp;&nbsp;&nbsp;&nbsp;&nbsp;&nbsp;&nbsp;&nbsp;&nbsp;&nbsp;&nbsp;&nbsp;
 &nbsp;&nbsp;&nbsp;&nbsp;&nbsp;&nbsp;&nbsp;&nbsp;&nbsp;&nbsp; </strong><a hr
 ef="http://www.horizonsunlimited.com/gregfrazier"><strong><u><font color="#
 0066cc">www.horizonsunlimited.com/gregfrazier</font></u></strong></a></p><p
  style="margin-left:144px;">	&nbsp;</p><p style="margin-left:144px;">	Grego
 ry W. Frazier (&lsquo;Dr. G&rsquo;) is a professional motorcycle adventurer
 , writer and film producer.&nbsp; Known as &ldquo;<em>America&rsquo;s #1 ex
 treme motorcycle adventurer</em>,&rdquo; his expeditions take him to the en
 ds of the earth. He is the only motorcyclist known to have made four solo m
 otorcycle rides around the world and two partnered.&nbsp; His name can be f
 ound in motorcycle racing record books aboard BMW and Indian motorcycles.&n
 bsp; A Crow Indian (&ldquo;Sun Chaser&rdquo;), his home is in the Big Horn 
 Mountains of Montana. Among his sixteen published books are <strong>BMW GSi
 ng AROUND THE WORLD</strong>; <strong>MOTORCYCLE ADVENTURER; DOWN AND OUT I
 N PATAGONIA, KATMCHATKA, AND TIMBUKU; MOTORCYCLE TOURING &ndash; EVERYTHING
  YOU NEED TO KNOW </strong>and his best selling tome&nbsp; <strong>MOTORCYC
 LE SEX. </strong>He is the Adventure Strategy Contributor at <strong>MOTORC
 YCLE CONSUMER NEWS</strong> and for <strong>CITY BIKE </strong>magazine he 
 is the Chief of the World Adventure Affairs Desk.&nbsp; His journalistic wo
 rks appear throughout the global motorcycle press and travel magazines. He 
 travels widely by motorcycles throughout the year and contributes his wande
 rlust to Native American heritage. He says of his wild motorcycle adventure
 s, &ldquo;<em>I hate adventure that has anything to do with snakes or shark
 s.&rdquo;</em></p><p>	&nbsp;</p><p>	No stranger to danger, his adventures a
 round the earth include having been shot at by rebels, jailed by unfriendly
  authorities, bitten by snakes, run over by Pamplona bulls and smitten by a
  product of Adam&#39;s rib. In 2005 Frazier completed his fifth motorcycle 
 ride around the earth, helping a Parkinson&#39;s patient as his pillion &qu
 ot;Ride the Dream.&quot;</p><p>	Frazier&#39;s two wheel travels have taken 
 him over 1,000,000 miles. Frazier works as an author, motorcycle journalist
 , script consultant, professional photographer, and lecturer, his treatment
 s appearing widely throughout the international motorcycling press. In the 
 USA media he has been a regular Columnist/Adventure Editor-at-Large for mot
 orcycle magazines such as MOTORCYCLE-USA.COM, ACCELERATE (RIDERS OF KAWASAK
 I), and DUAL-SPORT NEWS. He has contributed to RIDER, MOTORCYCLE CONSUMER N
 EWS, MOTORCYCLIST, BACKROADS, RoadRUNNER Motorcycle Tour and Travel, AMERIC
 AN MOTORCYCLIST, ADVENTURE MOTORCYCLE in the United States. Internationally
  his work has appeared in BMW BIKES (Japan), TOURENFAHRER (Germany), MOTORR
 AD (Germany) and MOTORCYCLE TRADER AND NEWS (New Zealand). He has personall
 y been featured in other foreign publications such as MOTOR CYCLE NEWS (Gre
 at Britain), MotorradABENTEUER (Germany), and MOTO (Russia). Dr. G also enj
 oys a solid reputation for motorcycle and product evaluations.<br />	<br />
 	A documentary film produced by Horizons Unlimited titled ROAD HEROES featu
 red Frazier in their film subtitled Motorcycle Adventure Travel Tales.<br /
 >	<br />	As a co-founder of the BIG DOG ADVENTURE RIDE (www.horizonsunlimit
 ed.com/bigdog) and the ELEPHANT RIDE he has enjoyed both events as organize
 r and entrant.<br />	<br />	Frazier is a well-known motivational speaker, p
 resenting his multi-media shows &quot;Sun Chasing or Five Times Around-The-
 World-By-Motorcycle: Ride The World,&quot; and &quot;Long Distance Riding A
 dventures - 100 Years Of Secrets Revealed.&quot; He lectures as a Professor
  of Motorcycle Adventure and has been identified as &ldquo;The world&rsquo;
 s most cerebral motorcycle adventurer.&rdquo;<br />	<br />	In 2017 Frazier 
 completed a second attempt to circumnavigate the globe for a sixth ride aro
 und the world, tagging and transiting across five of the seven continents o
 ver a several year period: <a href="http://www.greatamericanmotorcycleadven
 turerally.com/"><u><font color="#0066cc">www.greatamericanmotorcycleadventu
 rerally.com</font></u></a></p><p>	A detailed biography for Dr. Frazier can 
 be found at: <a href="http://www.amazon.com/Dr.-Gregory-W.-Frazier/e/B003B6
 TD1C/ref=ntt_dp_epwbk_0"><u><font color="#0066cc">http://www.amazon.com/aut
 hor/gregoryfrazier</font></u></a></p><p>	&nbsp;</p><p>	&nbsp;</p>
DTSTAMP:20260419T224653
DTSTART;TZID=America/Denver:20190625T070000
DTEND;TZID=America/Denver:20190625T080000
SEQUENCE:0
TRANSP:OPAQUE
END:VEVENT
END:VCALENDAR