BEGIN:VCALENDAR
VERSION:2.0
PRODID:-//jEvents 2.0 for Joomla//EN
CALSCALE:GREGORIAN
METHOD:PUBLISH
BEGIN:VTIMEZONE
TZID:America/Denver
BEGIN:STANDARD
DTSTART:20131103T010000
RDATE:20140309T030000
TZOFFSETFROM:-0600
TZOFFSETTO:-0700
TZNAME:America/Denver MST
END:STANDARD
BEGIN:STANDARD
DTSTART:20141102T010000
RDATE:20150308T030000
TZOFFSETFROM:-0600
TZOFFSETTO:-0700
TZNAME:America/Denver MST
END:STANDARD
BEGIN:STANDARD
DTSTART:20151101T010000
RDATE:20160313T030000
TZOFFSETFROM:-0600
TZOFFSETTO:-0700
TZNAME:America/Denver MST
END:STANDARD
BEGIN:STANDARD
DTSTART:20161106T010000
RDATE:20170312T030000
TZOFFSETFROM:-0600
TZOFFSETTO:-0700
TZNAME:America/Denver MST
END:STANDARD
BEGIN:STANDARD
DTSTART:20171105T010000
RDATE:20180311T030000
TZOFFSETFROM:-0600
TZOFFSETTO:-0700
TZNAME:America/Denver MST
END:STANDARD
BEGIN:STANDARD
DTSTART:20181104T010000
RDATE:20190310T030000
TZOFFSETFROM:-0600
TZOFFSETTO:-0700
TZNAME:America/Denver MST
END:STANDARD
BEGIN:STANDARD
DTSTART:20191103T010000
RDATE:20200308T030000
TZOFFSETFROM:-0600
TZOFFSETTO:-0700
TZNAME:America/Denver MST
END:STANDARD
BEGIN:STANDARD
DTSTART:20201101T010000
RDATE:20210314T030000
TZOFFSETFROM:-0600
TZOFFSETTO:-0700
TZNAME:America/Denver MST
END:STANDARD
BEGIN:STANDARD
DTSTART:20211107T010000
RDATE:20220313T030000
TZOFFSETFROM:-0600
TZOFFSETTO:-0700
TZNAME:America/Denver MST
END:STANDARD
BEGIN:STANDARD
DTSTART:20221106T010000
RDATE:20230312T030000
TZOFFSETFROM:-0600
TZOFFSETTO:-0700
TZNAME:America/Denver MST
END:STANDARD
BEGIN:STANDARD
DTSTART:20231105T010000
RDATE:20240310T030000
TZOFFSETFROM:-0600
TZOFFSETTO:-0700
TZNAME:America/Denver MST
END:STANDARD
BEGIN:STANDARD
DTSTART:20241103T010000
RDATE:20250309T030000
TZOFFSETFROM:-0600
TZOFFSETTO:-0700
TZNAME:America/Denver MST
END:STANDARD
BEGIN:STANDARD
DTSTART:20251102T010000
RDATE:20260308T030000
TZOFFSETFROM:-0600
TZOFFSETTO:-0700
TZNAME:America/Denver MST
END:STANDARD
BEGIN:STANDARD
DTSTART:20261101T010000
RDATE:20270314T030000
TZOFFSETFROM:-0600
TZOFFSETTO:-0700
TZNAME:America/Denver MST
END:STANDARD
BEGIN:STANDARD
DTSTART:20271107T010000
RDATE:20280312T030000
TZOFFSETFROM:-0600
TZOFFSETTO:-0700
TZNAME:America/Denver MST
END:STANDARD
BEGIN:STANDARD
DTSTART:20281105T010000
RDATE:20290311T030000
TZOFFSETFROM:-0600
TZOFFSETTO:-0700
TZNAME:America/Denver MST
END:STANDARD
BEGIN:STANDARD
DTSTART:20291104T010000
RDATE:20300310T030000
TZOFFSETFROM:-0600
TZOFFSETTO:-0700
TZNAME:America/Denver MST
END:STANDARD
BEGIN:STANDARD
DTSTART:20301103T010000
RDATE:20310309T030000
TZOFFSETFROM:-0600
TZOFFSETTO:-0700
TZNAME:America/Denver MST
END:STANDARD
BEGIN:STANDARD
DTSTART:20311102T010000
RDATE:20320314T030000
TZOFFSETFROM:-0600
TZOFFSETTO:-0700
TZNAME:America/Denver MST
END:STANDARD
BEGIN:STANDARD
DTSTART:20321107T010000
RDATE:20330313T030000
TZOFFSETFROM:-0600
TZOFFSETTO:-0700
TZNAME:America/Denver MST
END:STANDARD
BEGIN:STANDARD
DTSTART:20331106T010000
RDATE:20340312T030000
TZOFFSETFROM:-0600
TZOFFSETTO:-0700
TZNAME:America/Denver MST
END:STANDARD
BEGIN:STANDARD
DTSTART:20341105T010000
RDATE:20350311T030000
TZOFFSETFROM:-0600
TZOFFSETTO:-0700
TZNAME:America/Denver MST
END:STANDARD
BEGIN:STANDARD
DTSTART:20351104T010000
RDATE:20360309T030000
TZOFFSETFROM:-0600
TZOFFSETTO:-0700
TZNAME:America/Denver MST
END:STANDARD
BEGIN:STANDARD
DTSTART:20361102T010000
RDATE:20370308T030000
TZOFFSETFROM:-0600
TZOFFSETTO:-0700
TZNAME:America/Denver MST
END:STANDARD
BEGIN:STANDARD
DTSTART:20371101T010000
TZOFFSETFROM:-0600
TZOFFSETTO:-0700
TZNAME:America/Denver MST
END:STANDARD
BEGIN:DAYLIGHT
DTSTART:20130601T070000
RDATE:20131103T010000
TZOFFSETFROM:-0700
TZOFFSETTO:-0600
TZNAME:America/Denver MDT
END:DAYLIGHT
BEGIN:DAYLIGHT
DTSTART:20140309T030000
RDATE:20141102T010000
TZOFFSETFROM:-0700
TZOFFSETTO:-0600
TZNAME:America/Denver MDT
END:DAYLIGHT
BEGIN:DAYLIGHT
DTSTART:20150308T030000
RDATE:20151101T010000
TZOFFSETFROM:-0700
TZOFFSETTO:-0600
TZNAME:America/Denver MDT
END:DAYLIGHT
BEGIN:DAYLIGHT
DTSTART:20160313T030000
RDATE:20161106T010000
TZOFFSETFROM:-0700
TZOFFSETTO:-0600
TZNAME:America/Denver MDT
END:DAYLIGHT
BEGIN:DAYLIGHT
DTSTART:20170312T030000
RDATE:20171105T010000
TZOFFSETFROM:-0700
TZOFFSETTO:-0600
TZNAME:America/Denver MDT
END:DAYLIGHT
BEGIN:DAYLIGHT
DTSTART:20180311T030000
RDATE:20181104T010000
TZOFFSETFROM:-0700
TZOFFSETTO:-0600
TZNAME:America/Denver MDT
END:DAYLIGHT
BEGIN:DAYLIGHT
DTSTART:20190310T030000
RDATE:20191103T010000
TZOFFSETFROM:-0700
TZOFFSETTO:-0600
TZNAME:America/Denver MDT
END:DAYLIGHT
BEGIN:DAYLIGHT
DTSTART:20200308T030000
RDATE:20201101T010000
TZOFFSETFROM:-0700
TZOFFSETTO:-0600
TZNAME:America/Denver MDT
END:DAYLIGHT
BEGIN:DAYLIGHT
DTSTART:20210314T030000
RDATE:20211107T010000
TZOFFSETFROM:-0700
TZOFFSETTO:-0600
TZNAME:America/Denver MDT
END:DAYLIGHT
BEGIN:DAYLIGHT
DTSTART:20220313T030000
RDATE:20221106T010000
TZOFFSETFROM:-0700
TZOFFSETTO:-0600
TZNAME:America/Denver MDT
END:DAYLIGHT
BEGIN:DAYLIGHT
DTSTART:20230312T030000
RDATE:20231105T010000
TZOFFSETFROM:-0700
TZOFFSETTO:-0600
TZNAME:America/Denver MDT
END:DAYLIGHT
BEGIN:DAYLIGHT
DTSTART:20240310T030000
RDATE:20241103T010000
TZOFFSETFROM:-0700
TZOFFSETTO:-0600
TZNAME:America/Denver MDT
END:DAYLIGHT
BEGIN:DAYLIGHT
DTSTART:20250309T030000
RDATE:20251102T010000
TZOFFSETFROM:-0700
TZOFFSETTO:-0600
TZNAME:America/Denver MDT
END:DAYLIGHT
BEGIN:DAYLIGHT
DTSTART:20260308T030000
RDATE:20261101T010000
TZOFFSETFROM:-0700
TZOFFSETTO:-0600
TZNAME:America/Denver MDT
END:DAYLIGHT
BEGIN:DAYLIGHT
DTSTART:20270314T030000
RDATE:20271107T010000
TZOFFSETFROM:-0700
TZOFFSETTO:-0600
TZNAME:America/Denver MDT
END:DAYLIGHT
BEGIN:DAYLIGHT
DTSTART:20280312T030000
RDATE:20281105T010000
TZOFFSETFROM:-0700
TZOFFSETTO:-0600
TZNAME:America/Denver MDT
END:DAYLIGHT
BEGIN:DAYLIGHT
DTSTART:20290311T030000
RDATE:20291104T010000
TZOFFSETFROM:-0700
TZOFFSETTO:-0600
TZNAME:America/Denver MDT
END:DAYLIGHT
BEGIN:DAYLIGHT
DTSTART:20300310T030000
RDATE:20301103T010000
TZOFFSETFROM:-0700
TZOFFSETTO:-0600
TZNAME:America/Denver MDT
END:DAYLIGHT
BEGIN:DAYLIGHT
DTSTART:20310309T030000
RDATE:20311102T010000
TZOFFSETFROM:-0700
TZOFFSETTO:-0600
TZNAME:America/Denver MDT
END:DAYLIGHT
BEGIN:DAYLIGHT
DTSTART:20320314T030000
RDATE:20321107T010000
TZOFFSETFROM:-0700
TZOFFSETTO:-0600
TZNAME:America/Denver MDT
END:DAYLIGHT
BEGIN:DAYLIGHT
DTSTART:20330313T030000
RDATE:20331106T010000
TZOFFSETFROM:-0700
TZOFFSETTO:-0600
TZNAME:America/Denver MDT
END:DAYLIGHT
BEGIN:DAYLIGHT
DTSTART:20340312T030000
RDATE:20341105T010000
TZOFFSETFROM:-0700
TZOFFSETTO:-0600
TZNAME:America/Denver MDT
END:DAYLIGHT
BEGIN:DAYLIGHT
DTSTART:20350311T030000
RDATE:20351104T010000
TZOFFSETFROM:-0700
TZOFFSETTO:-0600
TZNAME:America/Denver MDT
END:DAYLIGHT
BEGIN:DAYLIGHT
DTSTART:20360309T030000
RDATE:20361102T010000
TZOFFSETFROM:-0700
TZOFFSETTO:-0600
TZNAME:America/Denver MDT
END:DAYLIGHT
BEGIN:DAYLIGHT
DTSTART:20370308T030000
RDATE:20371101T010000
TZOFFSETFROM:-0700
TZOFFSETTO:-0600
TZNAME:America/Denver MDT
END:DAYLIGHT
END:VTIMEZONE
BEGIN:VEVENT
UID:872237ea76d8aa29adb0c22edb67d2a9
CATEGORIES:LSDM
CREATED:20140529T112550
SUMMARY:Blake Christian
DESCRIPTION:	 \n	Blake Christian was California CPA of the year in 2011. He is included
  in "Best of the Best" National CPA firm ranking (2006 - 2013).	 	Blake's t
 opic will be, "Killing the Golden Goose," a discussion on California taxati
 on policy.	 	Hat tip: Ngobody	 	Scroll for additional background.\n	\n	Blak
 e Christian, CPA/ MBT						HCVT LLP					"Best of the Best" National CPA Fir
 m Ranking (2006 - 2013)					www.hcvt.com (http://www.hcvt.com/)					(562) 2
 16-1800				\n		For background, here is an op-ed that Blake published in the
  Long Beach Business Journal in the wake of California's Prop 30 passage in
  2012.\n		\n		Commentary on Election, California Education And Business Cli
 mate – Post-Prop. 30\n		http://lbbusinessjournal.com/long-beach-business-jo
 urnal-newswatch/173-12-11-20/1087-commentary-on-election-california-educati
 on-and-business-climate-post-prop-30.html\n		\n		Blake was California's CPA
  of the Year in 2011. Here is his bio:										Prior to joining the firm, 
 Blake was a tax partner with the international accounting firm of KPMG Peat
  Marwick and also served as Tax Director with a Fortune 500 corporation.\n	
 						Blake’s clients include multi-national, publicly traded corporations,
  as well as closely held owner-managed businesses. His industry concentrati
 on includes manufacturing and distribution, service companies, restaurant, 
 shipping and transportation, energy and healthcare. In addition to corporat
 e, partnership and individual tax compliance and planning, Blake is experie
 nced in the design and implementation of executive compensation plans.\n			
 				Blake is a nationally recognized expert and frequent author and speaker
  on State and Federal Location-based Incentive Credits (LBIC’s), including 
 State Enterprise Zone Credits, Federal Empowerment, Renewal Community, Indi
 an Tribal Lands and Gulf Opportunity Zone Credits. He has also assisted in 
 the development of specialized software, which is used by over 200 tax depa
 rtments throughout the U.S. to identify LBIC’s.\n							A regular tax colum
 nist for the AICPA Corporate Tax Insider Newsletter (national distribution 
 of over 70,000) and a regular contributor to the Long Beach Business Journa
 l’s “Dollars &amp; Sense,” Blake has lectured at a number of universities, 
 including University of Southern California (Masters and Business Tax Progr
 am) and California State University, Long Beach (Annual Tax Conference) as 
 well as various business and tax forums throughout the country. He has also
  been a technical resource for a number of news organizations, including US
 A Today, Los Angeles Times, KTLA News, Orange County News Channel, KNX News
  Radio, KFI Radio and various Business Journals.\n							With over twenty-n
 ine years of experience, Blake is a member of the Tax Division of the Ameri
 can Institute of Certified Public Accountants (AICPA), the California Socie
 ty of Certified Public Accountants and Cal Chamber Tax Committee. Blake ser
 ves and has served on numerous community boards, including 2008 Long Beach 
 Area Chamber of Commerce Chairman, 2011-2012 President-Elect of Long Beach 
 Rotary, Vice-Chairman of the (post-bankruptcy) Orange County Treasury Advis
 ory Committee, Long Beach Assistance League, Long Beach Symphony Corporate 
 Circle, member of the City of Long Beach “Red Team” (Boeing C-17 project) a
 nd the city’s Checkered Flag Team (automotive industry economic development
 ).\n							Blake received a master’s degree in taxation from the University
  of Southern California and a bachelor’s degree in business administration 
 from California State University Long Beach.\n							Contact Info: blakec@h
 cvt.com (https://mail.google.com/mail/?view=cm&amp;fs=1&amp;tf=1&amp;to=bla
 kec@hcvt.com) / (562) 216-1800 / Long Beach Office (http://hcvt.com/locatio
 ns/long-beach/)\n			
X-ALT-DESC;FMTTYPE=text/html:<p>	 </p><div>	Blake Christian was California CPA of the year in 2011. He i
 s included in "Best of the Best" National CPA firm ranking (2006 - 2013).</
 div><div>	 </div><div>	Blake's topic will be, "Killing the Golden Goose," a
  discussion on California taxation policy.</div><div>	 </div><div>	<strong>
 <font color="#ff0000">Hat tip: Ngobody</font></strong></div><div>	 </div><d
 iv>	<strong><font size="3">Scroll for additional background.</font></strong
 ><br />	<br />	Blake Christian, CPA/ MBT</div><div>	<div>		<div>			HCVT LLP
 </div>		<div>			"Best of the Best" National CPA Firm Ranking (2006 - 2013)<
 /div>		<div>			<a href="http://www.hcvt.com/" title="http://www.hcvt.com/">
 www.hcvt.com</a></div>		<div>			(562) 216-1800</div>	</div>	<div>		<br />		
 For background, here is an op-ed that Blake published in the Long Beach Bus
 iness Journal in the wake of California's Prop 30 passage in 2012.<br />		<
 br />		Commentary on Election, California Education And Business Climate &n
 dash; Post-Prop. 30<br />		<a class="moz-txt-link-freetext" href="http://lb
 businessjournal.com/long-beach-business-journal-newswatch/173-12-11-20/1087
 -commentary-on-election-california-education-and-business-climate-post-prop
 -30.html" title="http://lbbusinessjournal.com/long-beach-business-journal-n
 ewswatch/173-12-11-20/1087-commentary-on-election-california-education-and-
 business-climate-post-prop-30.html">http://lbbusinessjournal.com/long-beach
 -business-journal-newswatch/173-12-11-20/1087-commentary-on-election-califo
 rnia-education-and-business-climate-post-prop-30.html</a><br />		<br />		Bl
 ake was California's CPA of the Year in 2011. Here is his bio:</div>	<block
 quote type="cite">		<div>			<p style="padding: 0px 0px 10px; font-size: 13p
 x; line-height: 16px; font-family: Tahoma, Helvetica, Arial, Verdana, sans-
 serif; color: rgb(102, 102, 102); ">				<font size="2">Prior to joining the
  firm, Blake was a tax partner with the international accounting firm of KP
 MG Peat Marwick and also served as Tax Director with a Fortune 500 corporat
 ion.</font></p>			<p style="padding: 0px 0px 10px; font-size: 13px; line-he
 ight: 16px; font-family: Tahoma, Helvetica, Arial, Verdana, sans-serif; col
 or: rgb(102, 102, 102); ">				<font size="2">Blake&rsquo;s clients include 
 multi-national, publicly traded corporations, as well as closely held owner
 -managed businesses. His industry concentration includes manufacturing and 
 distribution, service companies, restaurant, shipping and transportation, e
 nergy and healthcare. In addition to corporate, partnership and individual 
 tax compliance and planning, Blake is experienced in the design and impleme
 ntation of executive compensation plans.</font></p>			<p style="padding: 0p
 x 0px 10px; font-size: 13px; line-height: 16px; font-family: Tahoma, Helvet
 ica, Arial, Verdana, sans-serif; color: rgb(102, 102, 102); ">				<font siz
 e="2">Blake is a nationally recognized expert and frequent author and speak
 er on State and Federal Location-based Incentive Credits (LBIC&rsquo;s), in
 cluding State Enterprise Zone Credits, Federal Empowerment, Renewal Communi
 ty, Indian Tribal Lands and Gulf Opportunity Zone Credits. He has also assi
 sted in the development of specialized software, which is used by over 200 
 tax departments throughout the U.S. to identify LBIC&rsquo;s.</font></p>			
 <p style="padding: 0px 0px 10px; font-size: 13px; line-height: 16px; font-f
 amily: Tahoma, Helvetica, Arial, Verdana, sans-serif; color: rgb(102, 102, 
 102); ">				<font size="2">A regular tax columnist for the AICPA Corporate 
 Tax Insider Newsletter (national distribution of over 70,000) and a regular
  contributor to the Long Beach Business Journal&rsquo;s &ldquo;Dollars & Se
 nse,&rdquo; Blake has lectured at a number of universities, including Unive
 rsity of Southern California (Masters and Business Tax Program) and Califor
 nia State University, Long Beach (Annual Tax Conference) as well as various
  business and tax forums throughout the country. He has also been a technic
 al resource for a number of news organizations, including USA Today, Los An
 geles Times, KTLA News, Orange County News Channel, KNX News Radio, KFI Rad
 io and various Business Journals.</font></p>			<p style="padding: 0px 0px 1
 0px; font-size: 13px; line-height: 16px; font-family: Tahoma, Helvetica, Ar
 ial, Verdana, sans-serif; color: rgb(102, 102, 102); ">				<font size="2">W
 ith over twenty-nine years of experience, Blake is a member of the Tax Divi
 sion of the American Institute of Certified Public Accountants (AICPA), the
  California Society of Certified Public Accountants and Cal Chamber Tax Com
 mittee. Blake serves and has served on numerous community boards, including
  2008 Long Beach Area Chamber of Commerce Chairman, 2011-2012 President-Ele
 ct of Long Beach Rotary, Vice-Chairman of the (post-bankruptcy) Orange Coun
 ty Treasury Advisory Committee, Long Beach Assistance League, Long Beach Sy
 mphony Corporate Circle, member of the City of Long Beach &ldquo;Red Team&r
 dquo; (Boeing C-17 project) and the city&rsquo;s Checkered Flag Team (autom
 otive industry economic development).</font></p>			<p style="padding: 0px 0
 px 10px; font-size: 13px; line-height: 16px; font-family: Tahoma, Helvetica
 , Arial, Verdana, sans-serif; color: rgb(102, 102, 102); ">				<font size="
 2">Blake received a master&rsquo;s degree in taxation from the University o
 f Southern California and a bachelor&rsquo;s degree in business administrat
 ion from California State University Long Beach.</font></p>			<p style="pad
 ding: 0px 0px 10px; font-size: 13px; line-height: 16px; font-family: Tahoma
 , Helvetica, Arial, Verdana, sans-serif; color: rgb(102, 102, 102); ">				<
 font size="2">Contact Info: </font><a href="https://mail.google.com/mail/?v
 iew=cm&fs=1&tf=1&to=blakec@hcvt.com" style="PADDING-BOTTOM: 0px; MARGIN: 0p
 x; PADDING-LEFT: 0px; PADDING-RIGHT: 0px; COLOR: rgb(28,106,180); TEXT-DECO
 RATION: underline; PADDING-TOP: 0px" target="_blank" title="https://mail.go
 ogle.com/mail/?view=cm&fs=1&tf=1&to=blakec@hcvt.com"><font size="2">blakec@
 hcvt.com</font></a><span style="PADDING-BOTTOM: 0px; MARGIN: 0px; PADDING-L
 EFT: 0px; PADDING-RIGHT: 0px; PADDING-TOP: 0px"><font size="2"> / <span cla
 ss="gc-cs-link" id="gc-number-0" style="PADDING-BOTTOM: 0px; MARGIN: 0px; P
 ADDING-LEFT: 0px; PADDING-RIGHT: 0px; COLOR: rgb(0,51,187); CURSOR: pointer
 ; TEXT-DECORATION: underline; PADDING-TOP: 0px" title="Call with Google Voi
 ce">(562) 216-1800</span> / </font></span><a href="http://hcvt.com/location
 s/long-beach/" style="PADDING-BOTTOM: 0px; MARGIN: 0px; PADDING-LEFT: 0px; 
 PADDING-RIGHT: 0px; COLOR: rgb(28,106,180); TEXT-DECORATION: underline; PAD
 DING-TOP: 0px" target="_blank" title="http://hcvt.com/locations/long-beach/
 "><font size="2">Long Beach Office</font></a></p>		</div>	</blockquote></di
 v>
DTSTAMP:20260421T061811
DTSTART;TZID=America/Denver:20140602T070000
DTEND;TZID=America/Denver:20140602T080000
SEQUENCE:0
TRANSP:OPAQUE
END:VEVENT
END:VCALENDAR