BEGIN:VCALENDAR
VERSION:2.0
PRODID:-//jEvents 2.0 for Joomla//EN
CALSCALE:GREGORIAN
METHOD:PUBLISH
BEGIN:VTIMEZONE
TZID:America/Denver
BEGIN:STANDARD
DTSTART:20191103T010000
RDATE:20200308T030000
TZOFFSETFROM:-0600
TZOFFSETTO:-0700
TZNAME:America/Denver MST
END:STANDARD
BEGIN:STANDARD
DTSTART:20201101T010000
RDATE:20210314T030000
TZOFFSETFROM:-0600
TZOFFSETTO:-0700
TZNAME:America/Denver MST
END:STANDARD
BEGIN:STANDARD
DTSTART:20211107T010000
RDATE:20220313T030000
TZOFFSETFROM:-0600
TZOFFSETTO:-0700
TZNAME:America/Denver MST
END:STANDARD
BEGIN:STANDARD
DTSTART:20221106T010000
RDATE:20230312T030000
TZOFFSETFROM:-0600
TZOFFSETTO:-0700
TZNAME:America/Denver MST
END:STANDARD
BEGIN:STANDARD
DTSTART:20231105T010000
RDATE:20240310T030000
TZOFFSETFROM:-0600
TZOFFSETTO:-0700
TZNAME:America/Denver MST
END:STANDARD
BEGIN:STANDARD
DTSTART:20241103T010000
RDATE:20250309T030000
TZOFFSETFROM:-0600
TZOFFSETTO:-0700
TZNAME:America/Denver MST
END:STANDARD
BEGIN:STANDARD
DTSTART:20251102T010000
RDATE:20260308T030000
TZOFFSETFROM:-0600
TZOFFSETTO:-0700
TZNAME:America/Denver MST
END:STANDARD
BEGIN:STANDARD
DTSTART:20261101T010000
RDATE:20270314T030000
TZOFFSETFROM:-0600
TZOFFSETTO:-0700
TZNAME:America/Denver MST
END:STANDARD
BEGIN:STANDARD
DTSTART:20271107T010000
RDATE:20280312T030000
TZOFFSETFROM:-0600
TZOFFSETTO:-0700
TZNAME:America/Denver MST
END:STANDARD
BEGIN:STANDARD
DTSTART:20281105T010000
RDATE:20290311T030000
TZOFFSETFROM:-0600
TZOFFSETTO:-0700
TZNAME:America/Denver MST
END:STANDARD
BEGIN:STANDARD
DTSTART:20291104T010000
RDATE:20300310T030000
TZOFFSETFROM:-0600
TZOFFSETTO:-0700
TZNAME:America/Denver MST
END:STANDARD
BEGIN:STANDARD
DTSTART:20301103T010000
RDATE:20310309T030000
TZOFFSETFROM:-0600
TZOFFSETTO:-0700
TZNAME:America/Denver MST
END:STANDARD
BEGIN:STANDARD
DTSTART:20311102T010000
RDATE:20320314T030000
TZOFFSETFROM:-0600
TZOFFSETTO:-0700
TZNAME:America/Denver MST
END:STANDARD
BEGIN:STANDARD
DTSTART:20321107T010000
RDATE:20330313T030000
TZOFFSETFROM:-0600
TZOFFSETTO:-0700
TZNAME:America/Denver MST
END:STANDARD
BEGIN:STANDARD
DTSTART:20331106T010000
RDATE:20340312T030000
TZOFFSETFROM:-0600
TZOFFSETTO:-0700
TZNAME:America/Denver MST
END:STANDARD
BEGIN:STANDARD
DTSTART:20341105T010000
RDATE:20350311T030000
TZOFFSETFROM:-0600
TZOFFSETTO:-0700
TZNAME:America/Denver MST
END:STANDARD
BEGIN:STANDARD
DTSTART:20351104T010000
RDATE:20360309T030000
TZOFFSETFROM:-0600
TZOFFSETTO:-0700
TZNAME:America/Denver MST
END:STANDARD
BEGIN:STANDARD
DTSTART:20361102T010000
RDATE:20370308T030000
TZOFFSETFROM:-0600
TZOFFSETTO:-0700
TZNAME:America/Denver MST
END:STANDARD
BEGIN:STANDARD
DTSTART:20371101T010000
TZOFFSETFROM:-0600
TZOFFSETTO:-0700
TZNAME:America/Denver MST
END:STANDARD
BEGIN:DAYLIGHT
DTSTART:20190918T070000
RDATE:20191103T010000
TZOFFSETFROM:-0700
TZOFFSETTO:-0600
TZNAME:America/Denver MDT
END:DAYLIGHT
BEGIN:DAYLIGHT
DTSTART:20200308T030000
RDATE:20201101T010000
TZOFFSETFROM:-0700
TZOFFSETTO:-0600
TZNAME:America/Denver MDT
END:DAYLIGHT
BEGIN:DAYLIGHT
DTSTART:20210314T030000
RDATE:20211107T010000
TZOFFSETFROM:-0700
TZOFFSETTO:-0600
TZNAME:America/Denver MDT
END:DAYLIGHT
BEGIN:DAYLIGHT
DTSTART:20220313T030000
RDATE:20221106T010000
TZOFFSETFROM:-0700
TZOFFSETTO:-0600
TZNAME:America/Denver MDT
END:DAYLIGHT
BEGIN:DAYLIGHT
DTSTART:20230312T030000
RDATE:20231105T010000
TZOFFSETFROM:-0700
TZOFFSETTO:-0600
TZNAME:America/Denver MDT
END:DAYLIGHT
BEGIN:DAYLIGHT
DTSTART:20240310T030000
RDATE:20241103T010000
TZOFFSETFROM:-0700
TZOFFSETTO:-0600
TZNAME:America/Denver MDT
END:DAYLIGHT
BEGIN:DAYLIGHT
DTSTART:20250309T030000
RDATE:20251102T010000
TZOFFSETFROM:-0700
TZOFFSETTO:-0600
TZNAME:America/Denver MDT
END:DAYLIGHT
BEGIN:DAYLIGHT
DTSTART:20260308T030000
RDATE:20261101T010000
TZOFFSETFROM:-0700
TZOFFSETTO:-0600
TZNAME:America/Denver MDT
END:DAYLIGHT
BEGIN:DAYLIGHT
DTSTART:20270314T030000
RDATE:20271107T010000
TZOFFSETFROM:-0700
TZOFFSETTO:-0600
TZNAME:America/Denver MDT
END:DAYLIGHT
BEGIN:DAYLIGHT
DTSTART:20280312T030000
RDATE:20281105T010000
TZOFFSETFROM:-0700
TZOFFSETTO:-0600
TZNAME:America/Denver MDT
END:DAYLIGHT
BEGIN:DAYLIGHT
DTSTART:20290311T030000
RDATE:20291104T010000
TZOFFSETFROM:-0700
TZOFFSETTO:-0600
TZNAME:America/Denver MDT
END:DAYLIGHT
BEGIN:DAYLIGHT
DTSTART:20300310T030000
RDATE:20301103T010000
TZOFFSETFROM:-0700
TZOFFSETTO:-0600
TZNAME:America/Denver MDT
END:DAYLIGHT
BEGIN:DAYLIGHT
DTSTART:20310309T030000
RDATE:20311102T010000
TZOFFSETFROM:-0700
TZOFFSETTO:-0600
TZNAME:America/Denver MDT
END:DAYLIGHT
BEGIN:DAYLIGHT
DTSTART:20320314T030000
RDATE:20321107T010000
TZOFFSETFROM:-0700
TZOFFSETTO:-0600
TZNAME:America/Denver MDT
END:DAYLIGHT
BEGIN:DAYLIGHT
DTSTART:20330313T030000
RDATE:20331106T010000
TZOFFSETFROM:-0700
TZOFFSETTO:-0600
TZNAME:America/Denver MDT
END:DAYLIGHT
BEGIN:DAYLIGHT
DTSTART:20340312T030000
RDATE:20341105T010000
TZOFFSETFROM:-0700
TZOFFSETTO:-0600
TZNAME:America/Denver MDT
END:DAYLIGHT
BEGIN:DAYLIGHT
DTSTART:20350311T030000
RDATE:20351104T010000
TZOFFSETFROM:-0700
TZOFFSETTO:-0600
TZNAME:America/Denver MDT
END:DAYLIGHT
BEGIN:DAYLIGHT
DTSTART:20360309T030000
RDATE:20361102T010000
TZOFFSETFROM:-0700
TZOFFSETTO:-0600
TZNAME:America/Denver MDT
END:DAYLIGHT
BEGIN:DAYLIGHT
DTSTART:20370308T030000
RDATE:20371101T010000
TZOFFSETFROM:-0700
TZOFFSETTO:-0600
TZNAME:America/Denver MDT
END:DAYLIGHT
END:VTIMEZONE
BEGIN:VEVENT
UID:1da73dc6a25306fd5154d1aed54d6a27
CATEGORIES:LSDM
CREATED:20200915T110320
SUMMARY:Myles C. Rademan, Founder/Director Leadership Park City
DESCRIPTION:	 \n										For almost five decades Myles Rademan has been recognized as 
 a visionary in the modern development of resort communities around the worl
 d.\n							He has served as a Planning Director, Community Development Dire
 ctor, Public Affairs Director and is the Founder and Director of Leadership
  Park City . \n							Myles holds graduate degrees in law and urban plannin
 g from New York University. He is a Fulbright Scholar, a Kellogg National F
 ellow and a Salzburg International Fellow. He has received numerous profess
 ional awards, including the prestigious 2002 Preceptor Award from the Inter
 national Community Leadership Association, and was inducted as a Senior Fel
 low of the American Institute of Certified Planners. \n							He has been f
 eatured in several PBS special documentaries including Territory in Conflic
 t, and Subdivide and Conquer: A Modern Western, and the 2020 film Mountain 
 Town decrying the environmental degradation caused by urban sprawl in the R
 ocky Mountain West.			
X-ALT-DESC;FMTTYPE=text/html:<p>	&nbsp;</p><blockquote class="yiv5266895683" style="margin-bottom: 0px; 
 padding-left: 0px; font-family: arial, helvetica, clean, sans-serif; font-s
 ize: 14px;" type="cite">	<div class="yiv5266895683" style="margin: 0px; pad
 ding: 0px;">		<div class="yiv5266895683" style="margin: 0px; padding: 0px; 
 font-family: Sans; direction: ltr; font-size: 12pt;">			<p class="yiv526689
 5683MsoNormal" style="margin: 0in 0in 10pt; padding: 0px; font-family: aria
 l, helvetica, clean, sans-serif; text-align: justify;">				<span class="yiv
 5266895683" style="font-family: &quot;Sans sans-serif&quot;; font-size: 14p
 t; line-height: 19.6px;">For almost five decades Myles Rademan has been rec
 ognized as a visionary in the modern development of resort communities&nbsp
 ;around the world.</span></p>			<p class="yiv5266895683MsoNormal" style="ma
 rgin: 0in 0in 10pt; padding: 0px; font-family: arial, helvetica, clean, san
 s-serif; text-align: justify;">				<span class="yiv5266895683" style="font-
 family: &quot;Sans sans-serif&quot;; font-size: 14pt; line-height: 19.6px;"
 >He has served as a<span class="yiv5266895683Apple-converted-space" style="
 font-family: arial, helvetica, clean, sans-serif;">&nbsp;</span><b class="y
 iv5266895683" style="font-family: arial, helvetica, clean, sans-serif;">Pla
 nning Director, Community Development Director, Public Affairs Director and
  is the Founder and Director of Leadership Park City<span class="yiv5266895
 683Apple-converted-space">&nbsp;</span></b>.<span class="yiv5266895683Apple
 -converted-space" style="font-family: arial, helvetica, clean, sans-serif;"
 >&nbsp;</span></span></p>			<p class="yiv5266895683MsoNormal" style="margin
 : 0in 0in 10pt; padding: 0px; font-family: arial, helvetica, clean, sans-se
 rif; text-align: justify;">				<span class="yiv5266895683" style="font-fami
 ly: &quot;Sans sans-serif&quot;; font-size: 14pt; line-height: 19.6px;">Myl
 es holds graduate degrees in law and urban planning from New York Universit
 y. He is a Fulbright Scholar, a Kellogg National Fellow and a Salzburg Inte
 rnational Fellow. He has received numerous professional awards, including t
 he prestigious 2002 Preceptor Award from the International Community Leader
 ship Association, and was inducted as a Senior Fellow of the American Insti
 tute of Certified Planners.<span class="yiv5266895683Apple-converted-space"
  style="font-family: arial, helvetica, clean, sans-serif;">&nbsp;</span></s
 pan></p>			<div class="yiv5266895683" style="margin: 0px; padding: 0px; fon
 t-family: arial, helvetica, clean, sans-serif;">				<span class="yiv5266895
 683" style="font-family: &quot;Sans sans-serif&quot;; font-size: 14pt; line
 -height: 19.6px;">He&nbsp;has been featured in several PBS special document
 aries including<span class="yiv5266895683Apple-converted-space" style="font
 -family: arial, helvetica, clean, sans-serif;">&nbsp;</span><i class="yiv52
 66895683" style="font-family: arial, helvetica, clean, sans-serif;">Territo
 ry in Conflict</i>, and<span class="yiv5266895683Apple-converted-space" sty
 le="font-family: arial, helvetica, clean, sans-serif;">&nbsp;</span><i clas
 s="yiv5266895683" style="font-family: arial, helvetica, clean, sans-serif;"
 >Subdivide and Conquer: A Modern Western</i>, and the 2020 film Mountain To
 wn decrying the environmental degradation caused by urban sprawl in the Roc
 ky Mountain West.</span></div>		</div>	</div></blockquote>
DTSTAMP:20260421T142415
DTSTART;TZID=America/Denver:20200918T070000
DTEND;TZID=America/Denver:20200918T080000
SEQUENCE:0
TRANSP:OPAQUE
END:VEVENT
END:VCALENDAR