BEGIN:VCALENDAR
VERSION:2.0
PRODID:-//jEvents 2.0 for Joomla//EN
CALSCALE:GREGORIAN
METHOD:PUBLISH
BEGIN:VTIMEZONE
TZID:America/Denver
BEGIN:STANDARD
DTSTART:20131103T010000
RDATE:20140309T030000
TZOFFSETFROM:-0600
TZOFFSETTO:-0700
TZNAME:America/Denver MST
END:STANDARD
BEGIN:STANDARD
DTSTART:20141102T010000
RDATE:20150308T030000
TZOFFSETFROM:-0600
TZOFFSETTO:-0700
TZNAME:America/Denver MST
END:STANDARD
BEGIN:STANDARD
DTSTART:20151101T010000
RDATE:20160313T030000
TZOFFSETFROM:-0600
TZOFFSETTO:-0700
TZNAME:America/Denver MST
END:STANDARD
BEGIN:STANDARD
DTSTART:20161106T010000
RDATE:20170312T030000
TZOFFSETFROM:-0600
TZOFFSETTO:-0700
TZNAME:America/Denver MST
END:STANDARD
BEGIN:STANDARD
DTSTART:20171105T010000
RDATE:20180311T030000
TZOFFSETFROM:-0600
TZOFFSETTO:-0700
TZNAME:America/Denver MST
END:STANDARD
BEGIN:STANDARD
DTSTART:20181104T010000
RDATE:20190310T030000
TZOFFSETFROM:-0600
TZOFFSETTO:-0700
TZNAME:America/Denver MST
END:STANDARD
BEGIN:STANDARD
DTSTART:20191103T010000
RDATE:20200308T030000
TZOFFSETFROM:-0600
TZOFFSETTO:-0700
TZNAME:America/Denver MST
END:STANDARD
BEGIN:STANDARD
DTSTART:20201101T010000
RDATE:20210314T030000
TZOFFSETFROM:-0600
TZOFFSETTO:-0700
TZNAME:America/Denver MST
END:STANDARD
BEGIN:STANDARD
DTSTART:20211107T010000
RDATE:20220313T030000
TZOFFSETFROM:-0600
TZOFFSETTO:-0700
TZNAME:America/Denver MST
END:STANDARD
BEGIN:STANDARD
DTSTART:20221106T010000
RDATE:20230312T030000
TZOFFSETFROM:-0600
TZOFFSETTO:-0700
TZNAME:America/Denver MST
END:STANDARD
BEGIN:STANDARD
DTSTART:20231105T010000
RDATE:20240310T030000
TZOFFSETFROM:-0600
TZOFFSETTO:-0700
TZNAME:America/Denver MST
END:STANDARD
BEGIN:STANDARD
DTSTART:20241103T010000
RDATE:20250309T030000
TZOFFSETFROM:-0600
TZOFFSETTO:-0700
TZNAME:America/Denver MST
END:STANDARD
BEGIN:STANDARD
DTSTART:20251102T010000
RDATE:20260308T030000
TZOFFSETFROM:-0600
TZOFFSETTO:-0700
TZNAME:America/Denver MST
END:STANDARD
BEGIN:STANDARD
DTSTART:20261101T010000
RDATE:20270314T030000
TZOFFSETFROM:-0600
TZOFFSETTO:-0700
TZNAME:America/Denver MST
END:STANDARD
BEGIN:STANDARD
DTSTART:20271107T010000
RDATE:20280312T030000
TZOFFSETFROM:-0600
TZOFFSETTO:-0700
TZNAME:America/Denver MST
END:STANDARD
BEGIN:STANDARD
DTSTART:20281105T010000
RDATE:20290311T030000
TZOFFSETFROM:-0600
TZOFFSETTO:-0700
TZNAME:America/Denver MST
END:STANDARD
BEGIN:STANDARD
DTSTART:20291104T010000
RDATE:20300310T030000
TZOFFSETFROM:-0600
TZOFFSETTO:-0700
TZNAME:America/Denver MST
END:STANDARD
BEGIN:STANDARD
DTSTART:20301103T010000
RDATE:20310309T030000
TZOFFSETFROM:-0600
TZOFFSETTO:-0700
TZNAME:America/Denver MST
END:STANDARD
BEGIN:STANDARD
DTSTART:20311102T010000
RDATE:20320314T030000
TZOFFSETFROM:-0600
TZOFFSETTO:-0700
TZNAME:America/Denver MST
END:STANDARD
BEGIN:STANDARD
DTSTART:20321107T010000
RDATE:20330313T030000
TZOFFSETFROM:-0600
TZOFFSETTO:-0700
TZNAME:America/Denver MST
END:STANDARD
BEGIN:STANDARD
DTSTART:20331106T010000
RDATE:20340312T030000
TZOFFSETFROM:-0600
TZOFFSETTO:-0700
TZNAME:America/Denver MST
END:STANDARD
BEGIN:STANDARD
DTSTART:20341105T010000
RDATE:20350311T030000
TZOFFSETFROM:-0600
TZOFFSETTO:-0700
TZNAME:America/Denver MST
END:STANDARD
BEGIN:STANDARD
DTSTART:20351104T010000
RDATE:20360309T030000
TZOFFSETFROM:-0600
TZOFFSETTO:-0700
TZNAME:America/Denver MST
END:STANDARD
BEGIN:STANDARD
DTSTART:20361102T010000
RDATE:20370308T030000
TZOFFSETFROM:-0600
TZOFFSETTO:-0700
TZNAME:America/Denver MST
END:STANDARD
BEGIN:STANDARD
DTSTART:20371101T010000
TZOFFSETFROM:-0600
TZOFFSETTO:-0700
TZNAME:America/Denver MST
END:STANDARD
BEGIN:DAYLIGHT
DTSTART:20130722T070000
RDATE:20131103T010000
TZOFFSETFROM:-0700
TZOFFSETTO:-0600
TZNAME:America/Denver MDT
END:DAYLIGHT
BEGIN:DAYLIGHT
DTSTART:20140309T030000
RDATE:20141102T010000
TZOFFSETFROM:-0700
TZOFFSETTO:-0600
TZNAME:America/Denver MDT
END:DAYLIGHT
BEGIN:DAYLIGHT
DTSTART:20150308T030000
RDATE:20151101T010000
TZOFFSETFROM:-0700
TZOFFSETTO:-0600
TZNAME:America/Denver MDT
END:DAYLIGHT
BEGIN:DAYLIGHT
DTSTART:20160313T030000
RDATE:20161106T010000
TZOFFSETFROM:-0700
TZOFFSETTO:-0600
TZNAME:America/Denver MDT
END:DAYLIGHT
BEGIN:DAYLIGHT
DTSTART:20170312T030000
RDATE:20171105T010000
TZOFFSETFROM:-0700
TZOFFSETTO:-0600
TZNAME:America/Denver MDT
END:DAYLIGHT
BEGIN:DAYLIGHT
DTSTART:20180311T030000
RDATE:20181104T010000
TZOFFSETFROM:-0700
TZOFFSETTO:-0600
TZNAME:America/Denver MDT
END:DAYLIGHT
BEGIN:DAYLIGHT
DTSTART:20190310T030000
RDATE:20191103T010000
TZOFFSETFROM:-0700
TZOFFSETTO:-0600
TZNAME:America/Denver MDT
END:DAYLIGHT
BEGIN:DAYLIGHT
DTSTART:20200308T030000
RDATE:20201101T010000
TZOFFSETFROM:-0700
TZOFFSETTO:-0600
TZNAME:America/Denver MDT
END:DAYLIGHT
BEGIN:DAYLIGHT
DTSTART:20210314T030000
RDATE:20211107T010000
TZOFFSETFROM:-0700
TZOFFSETTO:-0600
TZNAME:America/Denver MDT
END:DAYLIGHT
BEGIN:DAYLIGHT
DTSTART:20220313T030000
RDATE:20221106T010000
TZOFFSETFROM:-0700
TZOFFSETTO:-0600
TZNAME:America/Denver MDT
END:DAYLIGHT
BEGIN:DAYLIGHT
DTSTART:20230312T030000
RDATE:20231105T010000
TZOFFSETFROM:-0700
TZOFFSETTO:-0600
TZNAME:America/Denver MDT
END:DAYLIGHT
BEGIN:DAYLIGHT
DTSTART:20240310T030000
RDATE:20241103T010000
TZOFFSETFROM:-0700
TZOFFSETTO:-0600
TZNAME:America/Denver MDT
END:DAYLIGHT
BEGIN:DAYLIGHT
DTSTART:20250309T030000
RDATE:20251102T010000
TZOFFSETFROM:-0700
TZOFFSETTO:-0600
TZNAME:America/Denver MDT
END:DAYLIGHT
BEGIN:DAYLIGHT
DTSTART:20260308T030000
RDATE:20261101T010000
TZOFFSETFROM:-0700
TZOFFSETTO:-0600
TZNAME:America/Denver MDT
END:DAYLIGHT
BEGIN:DAYLIGHT
DTSTART:20270314T030000
RDATE:20271107T010000
TZOFFSETFROM:-0700
TZOFFSETTO:-0600
TZNAME:America/Denver MDT
END:DAYLIGHT
BEGIN:DAYLIGHT
DTSTART:20280312T030000
RDATE:20281105T010000
TZOFFSETFROM:-0700
TZOFFSETTO:-0600
TZNAME:America/Denver MDT
END:DAYLIGHT
BEGIN:DAYLIGHT
DTSTART:20290311T030000
RDATE:20291104T010000
TZOFFSETFROM:-0700
TZOFFSETTO:-0600
TZNAME:America/Denver MDT
END:DAYLIGHT
BEGIN:DAYLIGHT
DTSTART:20300310T030000
RDATE:20301103T010000
TZOFFSETFROM:-0700
TZOFFSETTO:-0600
TZNAME:America/Denver MDT
END:DAYLIGHT
BEGIN:DAYLIGHT
DTSTART:20310309T030000
RDATE:20311102T010000
TZOFFSETFROM:-0700
TZOFFSETTO:-0600
TZNAME:America/Denver MDT
END:DAYLIGHT
BEGIN:DAYLIGHT
DTSTART:20320314T030000
RDATE:20321107T010000
TZOFFSETFROM:-0700
TZOFFSETTO:-0600
TZNAME:America/Denver MDT
END:DAYLIGHT
BEGIN:DAYLIGHT
DTSTART:20330313T030000
RDATE:20331106T010000
TZOFFSETFROM:-0700
TZOFFSETTO:-0600
TZNAME:America/Denver MDT
END:DAYLIGHT
BEGIN:DAYLIGHT
DTSTART:20340312T030000
RDATE:20341105T010000
TZOFFSETFROM:-0700
TZOFFSETTO:-0600
TZNAME:America/Denver MDT
END:DAYLIGHT
BEGIN:DAYLIGHT
DTSTART:20350311T030000
RDATE:20351104T010000
TZOFFSETFROM:-0700
TZOFFSETTO:-0600
TZNAME:America/Denver MDT
END:DAYLIGHT
BEGIN:DAYLIGHT
DTSTART:20360309T030000
RDATE:20361102T010000
TZOFFSETFROM:-0700
TZOFFSETTO:-0600
TZNAME:America/Denver MDT
END:DAYLIGHT
BEGIN:DAYLIGHT
DTSTART:20370308T030000
RDATE:20371101T010000
TZOFFSETFROM:-0700
TZOFFSETTO:-0600
TZNAME:America/Denver MDT
END:DAYLIGHT
END:VTIMEZONE
BEGIN:VEVENT
UID:a8953e143fedd17c1179895345673290
CATEGORIES:LSDM
CREATED:20140721T063754
SUMMARY:Jim Murchie
DESCRIPTION:	 \n	Jim Murchie, Principal, Energy Income Partners, will be speaker at La 
 Societe Deux Magots (LSDM) on 23 July 2014.	 	Energy Income Partners, LLC	\
 n	Energy Income Partners, LLC (EIP) manages 7 funds (2 investment partnersh
 ips, 4 NYSE listed closed-end mutual funds – tickers: FEN, FIF, FEI, FPL an
 d 1 NYSE listed Managed ETF – ticker EMLP) and separately managed accounts 
 that invest in energy infrastructure such as pipelines, storage and termina
 ls, power transmission, etc. All investments are publicly traded with a lar
 ge weighting in Master Limited Partnerships (MLPs), pipeline c-corps, utili
 ties and infrastructure income trusts and their successor companies in Cana
 da. The portfolio companies tend to pay out most or all of their free cash 
 flow in the form of dividends or cash distributions and therefore have an a
 ttractive yield. Annual dividend growth of its portfolio companies has aver
 aged about 11% since their first fund’s inception in October of 2003. As of
  May, 2014 EIP’s assets under management was approximately $5.5 billion.	\n
 	EIP is led by James Murchie, and its competitive advantage derives from th
 e 100+ years of extensive investment and energy industry experience of its 
 5 principals. A graduate of Rice University and Harvard University, Mr. Mur
 chie worked eight years at British Petroleum, five years at Sanford C. Bern
 stein and two years at Tiger Management. Other team members all have energy
  industry as well as investment experience that includes equities, fixed in
 come, derivatives and commodities at firms including Merrill Lynch, Wells F
 argo, Southern Company, Florida Power &amp; Light, Enron, Questar, Public S
 ervice of New Mexico, Raymond James and Citigroup. EIP believes its superio
 r performance derives from this experience and its conservative “winning-by
 -not-losing” investing approach.	\n	EIP believes its strategy will generate
  long term returns that will approximate the sum of the yield and dividend 
 growth of its portfolio companies while experiencing less volatility and lo
 wer correlations to other asset classes by investing in companies that rece
 ive non-cyclical, fee-for-service tariffs that do not correlate with commod
 ity prices. EIP sees the infrastructure business as “selling pick-axes to t
 he miners” and believes the high-payout obligation imposes capital spending
  discipline on management. EIP believes its portfolio companies share this 
 view, are well managed, have safe dividends and are likely to continue thei
 r history of dividend growth. Pipeline and transmission tariffs often have 
 price escalators and cost pass-through provisions providing investors with 
 a built-in inflation hedge. MLPs, which make up a significant portion of ou
 r portfolios, are tax efficient, which combined with our relatively low tur
 nover, enhances the after-tax returns.	\n	For further information call: 203
 -349-8232 or visit our website at www.energymlp.com (http://www.energymlp.c
 om/)	 
X-ALT-DESC;FMTTYPE=text/html:<p>	 </p><div>	<font color="#000000" face="Arial" id="role_document" size="
 2"><strong><font size="3">Jim Murchie</font></strong>, Principal, Energy In
 come Partners, will be speaker at La Societe Deux Magots (LSDM) on 23 July 
 2014.</font></div><div>	 </div><div>	<span style="color: rgb(0, 0, 0); font
 -size: small; ">Energy Income Partners, LLC</span></div><div>	<br />	<font 
 color="#000000" face="Arial" id="role_document" size="2">Energy Income Part
 ners, LLC (EIP) manages 7 funds (2 investment partnerships, 4 NYSE listed c
 losed-end mutual funds &ndash; tickers: FEN, FIF, FEI, FPL and 1 NYSE liste
 d Managed ETF &ndash; ticker EMLP) and separately managed accounts that inv
 est in energy infrastructure such as pipelines, storage and terminals, powe
 r transmission, etc. All investments are publicly traded with a large weigh
 ting in Master Limited Partnerships (MLPs), pipeline c-corps, utilities and
  infrastructure income trusts and their successor companies in Canada. The 
 portfolio companies tend to pay out most or all of their free cash flow in 
 the form of dividends or cash distributions and therefore have an attractiv
 e yield. Annual dividend growth of its portfolio companies has averaged abo
 ut 11% since their first fund&rsquo;s inception in October of 2003. As of M
 ay, 2014 EIP&rsquo;s assets under management was approximately $5.5 billion
 .</font></div><div>	<br />	<font color="#000000" face="Arial" id="role_docu
 ment" size="2">EIP is led by James Murchie, and its competitive advantage d
 erives from the 100+ years of extensive investment and energy industry expe
 rience of its 5 principals. A graduate of Rice University and Harvard Unive
 rsity, Mr. Murchie worked eight years at British Petroleum, five years at S
 anford C. Bernstein and two years at Tiger Management. Other team members a
 ll have energy industry as well as investment experience that includes equi
 ties, fixed income, derivatives and commodities at firms including Merrill 
 Lynch, Wells Fargo, Southern Company, Florida Power & Light, Enron, Questar
 , Public Service of New Mexico, Raymond James and Citigroup. EIP believes i
 ts superior performance derives from this experience and its conservative &
 ldquo;winning-by-not-losing&rdquo; investing approach.</font></div><div>	<b
 r />	<font color="#000000" face="Arial" id="role_document" size="2">EIP bel
 ieves its strategy will generate long term returns that will approximate th
 e sum of the yield and dividend growth of its portfolio companies while exp
 eriencing less volatility and lower correlations to other asset classes by 
 investing in companies that receive non-cyclical, fee-for-service tariffs t
 hat do not correlate with commodity prices. EIP sees the infrastructure bus
 iness as &ldquo;selling pick-axes to the miners&rdquo; and believes the hig
 h-payout obligation imposes capital spending discipline on management. EIP 
 believes its portfolio companies share this view, are well managed, have sa
 fe dividends and are likely to continue their history of dividend growth. P
 ipeline and transmission tariffs often have price escalators and cost pass-
 through provisions providing investors with a built-in inflation hedge. MLP
 s, which make up a significant portion of our portfolios, are tax efficient
 , which combined with our relatively low turnover, enhances the after-tax r
 eturns.</font></div><div>	<br />	<font color="#000000" face="Arial" id="rol
 e_document" size="2">For further information call: 203-349-8232 or visit ou
 r website at <a href="http://www.energymlp.com/" title="http://www.energyml
 p.com/">www.energymlp.com</a></font></div><div>	 </div>
DTSTAMP:20260421T033507
DTSTART;TZID=America/Denver:20140723T070000
DTEND;TZID=America/Denver:20140723T080000
SEQUENCE:0
TRANSP:OPAQUE
END:VEVENT
END:VCALENDAR